Workbook
Name AA: [1]Listas!#REF!
Name AA: [2]Listas!#REF!

Sheet Carta Condicionada
F1: 1 | X1: SOLICITUD CARTA CONDICIONADA
S4: Fecha de Solicitud (dd/mm/aaaa):
G6: Por este conducto solicitamos sea emitida la carta de liberación parcial de hipoteca de la (s) vivienda (s) que se describe (n) en el detalle de este formato; para lo cual señalamos datos generales y adjuntamos documentos requeridos que acreditan el compromiso del pago correspondiente:
S7: Número de Crédito según su Estado de Cuenta:
G10: SE INDICA COMPROMISO DE PAGO
G12: Indicar nombre del Banco o Entidad: | N12: Para este trámite se deben adjuntar los siguientes documentos: a) Certificado(s) de Crédito | U12: Para este trámite se deben adjuntar los siguientes documentos: a) Carta(s) de Instrucción Notarial(es) b) Certificado(s) de Subsidio en su caso
G14: Para este trámite se deben adjuntar los siguientes documentos: a) Carta emitida por la institución que realizará el pago
G16: Razón Social o Nombre del Desarrollador: | Q16: Nombre del Proyecto:
G18: Nombre del Ejecutivo que le atiende en la plaza: | Q18: Oficina, Sucursal o Plaza:
G21: Solicitante (Nombres, Apellido Paterno y Apellido Materno): | N21: Dirección de correo para envío de información: | S21: Teléfonos de contacto:
S22: Lada: | T22: Números telefónicos:
G25: Se solicita la CARTA LIBERACIÓN PARCIAL DE HIPOTECA, considerando que los pagos de los créditos señalados, serán realizados a las cuentas determinadas por B.I.M.. Para tal efecto se solicita que la carta se dirija a la siguiente Notaría:
G26: No. Notaría: | I26: Nombre completo del Notario: | Q26: Plaza de la notaría (Municipio)
G28: NOTA: Para atender esta solicitud es necesario que el Desarrollador envíe vía correo electrónico este formato debidamente requisitado a la dirección de correo: cancelaciones@bim.mx El área de cancelaciones dará respuesta a su solicitud 48 Hrs. después de recibida.
G30: Conse- cutivo | I30: DETALLE DE VIVIENDAS | R30: DATOS DEL CRÉDITO (De la Institución que pagará (Infonavit, Fovissste u otra Institución)
I31: No. Vivienda o Nomenclatura | J31: Ubicación Completa | R31: No. de Crédito | V31: Importe Crédito a depositar a B.I.M. | W31: Importe Subsidio | X31: Importe Amortización Acelerada
G32: 1
G33: 2
G34: 3 | W34: ,
G35: 4
G36: 5
G37: 6
G38: 7
G39: 8
G40: 9
G41: 10
G42: Observaciones:
T43: TOTAL | V43: =SUM(V32:V41) -> 0 | W43: =SUM(W32:W41) -> 0 | X43: =SUM(X32:X41) -> 0
G46: Para uso exclusivo de Operaciones
G47: En caso de requerir considerar importe por amortización acelerada, es necesario anexar uno de los siguientes: | M47: Observaciones: | T47: Folio del trámite:
G307: V.1 1223 | X307: FI-LIQ-OPE-E-02

Sheet AVISO
H1: SOLICITUD CARTA CONDICIONADA
G108: RECIBÍ AVISO DE PRIVACIDAD INTEGRAL CLIENTES Y ESTOY DE ACUERDO CON EL MISMO.
J111: NOMBRE Y FIRMA: | K111: =IF('Carta Condicionada'!G17=0, "INGRESA NOMBRE",'Carta Condicionada'!G17) -> INGRESA NOMBRE

Sheet RESUMEN
F1: Fecha de solicitud: | G1: =IF('Carta Condicionada'!S5="","",+'Carta Condicionada'!S5)
B3: RESUMEN DE LA SOLICITUD DE CARTA CONDICIONADA
B5: Cons. | C5: No. Crédito | D5: Nombre Cliente | E5: Proyecto | F5: Ubicación | G5: Nomenclatura | H5: Origen del Pago | I5: No. de Crédito Info/Fovisste/otro | J5: I. Crédito | K5: I. Subsidio | L5: No. Notaría | M5: Nombre Notario | N5: Plaza Notario | O5: Observaciones
B6: =IF('Carta Condicionada'!I32="","",'Carta Condicionada'!G32) | C6: =IF('Carta Condicionada'!$S$8="","",IF(B6="","",'Carta Condicionada'!$S$8)) | D6: =IF('Carta Condicionada'!$G$17="","",IF(B6="","",('Carta Condicionada'!$G$17))) | E6: =IF('Carta Condicionada'!$Q$17="","",IF(B6="","",'Carta Condicionada'!$Q$17)) | F6: =IF(B6="","",'Carta Condicionada'!J32) | G6: =IF(B6="","",'Carta Condicionada'!I32) | H6: =IF('Carta Condicionada'!#REF!=1,"Bancario",IF('Carta Condicionada'!#REF!=2,"Fovissste",IF('Carta Condicionada'!#REF!=3,"Infonavit",""))) -> #REF! | I6: =IF(B6="","",'Carta Condicionada'!R32) | J6: =IF(B6="","",('Carta Condicionada'!V32)) | K6: =IF(B6="","",'Carta Condicionada'!X32) | L6: =IF('Carta Condicionada'!$G$27="","",IF(B6="","",('Carta Condicionada'!$G$27))) | M6: =IF('Carta Condicionada'!$I$27="","",IF(B6="","",('Carta Condicionada'!$I$27))) | N6: =IF('Carta Condicionada'!$Q$27="","",IF(B6="","",('Carta Condicionada'!$Q$27))) | O6: =IF('Carta Condicionada'!$G$43="","",IF(B6="","",('Carta Condicionada'!$G$43)))
B7: =IF('Carta Condicionada'!I33="","",'Carta Condicionada'!G33) | C7: =IF('Carta Condicionada'!$S$8="","",IF(B7="","",'Carta Condicionada'!$S$8)) | D7: =IF('Carta Condicionada'!$G$17="","",IF(B7="","",('Carta Condicionada'!$G$17))) | E7: =IF('Carta Condicionada'!$Q$17="","",IF(B7="","",'Carta Condicionada'!$Q$17)) | F7: =IF(B7="","",'Carta Condicionada'!J33) | G7: =IF(B7="","",'Carta Condicionada'!I33) | H7: =IF(G7="","",$H$6) | I7: =IF(B7="","",'Carta Condicionada'!T33) | J7: =IF(B7="","",('Carta Condicionada'!V33)) | K7: =IF(B7="","",'Carta Condicionada'!X33) | L7: =IF('Carta Condicionada'!$G$27="","",IF(B7="","",('Carta Condicionada'!$G$27))) | M7: =IF('Carta Condicionada'!$I$27="","",IF(B7="","",('Carta Condicionada'!$I$27))) | N7: =IF('Carta Condicionada'!$Q$27="","",IF(B7="","",('Carta Condicionada'!$Q$27))) | O7: =IF('Carta Condicionada'!$G$43="","",IF(B7="","",('Carta Condicionada'!$G$43)))
B8: =IF('Carta Condicionada'!I34="","",'Carta Condicionada'!G34) | C8: =IF('Carta Condicionada'!$S$8="","",IF(B8="","",'Carta Condicionada'!$S$8)) | D8: =IF('Carta Condicionada'!$G$17="","",IF(B8="","",('Carta Condicionada'!$G$17))) | E8: =IF('Carta Condicionada'!$Q$17="","",IF(B8="","",'Carta Condicionada'!$Q$17)) | F8: =IF(B8="","",'Carta Condicionada'!J34) | G8: =IF(B8="","",'Carta Condicionada'!I34) | H8: =IF(G8="","",$H$6) | I8: =IF(B8="","",'Carta Condicionada'!T34) | J8: =IF(B8="","",('Carta Condicionada'!V34)) | K8: =IF(B8="","",'Carta Condicionada'!X34) | L8: =IF('Carta Condicionada'!$G$27="","",IF(B8="","",('Carta Condicionada'!$G$27))) | M8: =IF('Carta Condicionada'!$I$27="","",IF(B8="","",('Carta Condicionada'!$I$27))) | N8: =IF('Carta Condicionada'!$Q$27="","",IF(B8="","",('Carta Condicionada'!$Q$27))) | O8: =IF('Carta Condicionada'!$G$43="","",IF(B8="","",('Carta Condicionada'!$G$43)))
B9: =IF('Carta Condicionada'!I35="","",'Carta Condicionada'!G35) | C9: =IF('Carta Condicionada'!$S$8="","",IF(B9="","",'Carta Condicionada'!$S$8)) | D9: =IF('Carta Condicionada'!$G$17="","",IF(B9="","",('Carta Condicionada'!$G$17))) | E9: =IF('Carta Condicionada'!$Q$17="","",IF(B9="","",'Carta Condicionada'!$Q$17)) | F9: =IF(B9="","",'Carta Condicionada'!J35) | G9: =IF(B9="","",'Carta Condicionada'!I35) | H9: =IF(G9="","",$H$6) | I9: =IF(B9="","",'Carta Condicionada'!T35) | J9: =IF(B9="","",('Carta Condicionada'!V35)) | K9: =IF(B9="","",'Carta Condicionada'!X35) | L9: =IF('Carta Condicionada'!$G$27="","",IF(B9="","",('Carta Condicionada'!$G$27))) | M9: =IF('Carta Condicionada'!$I$27="","",IF(B9="","",('Carta Condicionada'!$I$27))) | N9: =IF('Carta Condicionada'!$Q$27="","",IF(B9="","",('Carta Condicionada'!$Q$27))) | O9: =IF('Carta Condicionada'!$G$43="","",IF(B9="","",('Carta Condicionada'!$G$43)))
B10: =IF('Carta Condicionada'!I36="","",'Carta Condicionada'!G36) | C10: =IF('Carta Condicionada'!$S$8="","",IF(B10="","",'Carta Condicionada'!$S$8)) | D10: =IF('Carta Condicionada'!$G$17="","",IF(B10="","",('Carta Condicionada'!$G$17))) | E10: =IF('Carta Condicionada'!$Q$17="","",IF(B10="","",'Carta Condicionada'!$Q$17)) | F10: =IF(B10="","",'Carta Condicionada'!J36) | G10: =IF(B10="","",'Carta Condicionada'!I36) | H10: =IF(G10="","",$H$6) | I10: =IF(B10="","",'Carta Condicionada'!T36) | J10: =IF(B10="","",('Carta Condicionada'!V36)) | K10: =IF(B10="","",'Carta Condicionada'!X36) | L10: =IF('Carta Condicionada'!$G$27="","",IF(B10="","",('Carta Condicionada'!$G$27))) | M10: =IF('Carta Condicionada'!$I$27="","",IF(B10="","",('Carta Condicionada'!$I$27))) | N10: =IF('Carta Condicionada'!$Q$27="","",IF(B10="","",('Carta Condicionada'!$Q$27))) | O10: =IF('Carta Condicionada'!$G$43="","",IF(B10="","",('Carta Condicionada'!$G$43)))
B11: =IF('Carta Condicionada'!I37="","",'Carta Condicionada'!G37) | C11: =IF('Carta Condicionada'!$S$8="","",IF(B11="","",'Carta Condicionada'!$S$8)) | D11: =IF('Carta Condicionada'!$G$17="","",IF(B11="","",('Carta Condicionada'!$G$17))) | E11: =IF('Carta Condicionada'!$Q$17="","",IF(B11="","",'Carta Condicionada'!$Q$17)) | F11: =IF(B11="","",'Carta Condicionada'!J37) | G11: =IF(B11="","",'Carta Condicionada'!I37) | H11: =IF(G11="","",$H$6) | I11: =IF(B11="","",'Carta Condicionada'!T37) | J11: =IF(B11="","",('Carta Condicionada'!V37)) | K11: =IF(B11="","",'Carta Condicionada'!X37) | L11: =IF('Carta Condicionada'!$G$27="","",IF(B11="","",('Carta Condicionada'!$G$27))) | M11: =IF('Carta Condicionada'!$I$27="","",IF(B11="","",('Carta Condicionada'!$I$27))) | N11: =IF('Carta Condicionada'!$Q$27="","",IF(B11="","",('Carta Condicionada'!$Q$27))) | O11: =IF('Carta Condicionada'!$G$43="","",IF(B11="","",('Carta Condicionada'!$G$43)))
B12: =IF('Carta Condicionada'!I38="","",'Carta Condicionada'!G38) | C12: =IF('Carta Condicionada'!$S$8="","",IF(B12="","",'Carta Condicionada'!$S$8)) | D12: =IF('Carta Condicionada'!$G$17="","",IF(B12="","",('Carta Condicionada'!$G$17))) | E12: =IF('Carta Condicionada'!$Q$17="","",IF(B12="","",'Carta Condicionada'!$Q$17)) | F12: =IF(B12="","",'Carta Condicionada'!J38) | G12: =IF(B12="","",'Carta Condicionada'!I38) | H12: =IF(G12="","",$H$6) | I12: =IF(B12="","",'Carta Condicionada'!T38) | J12: =IF(B12="","",('Carta Condicionada'!V38)) | K12: =IF(B12="","",'Carta Condicionada'!X38) | L12: =IF('Carta Condicionada'!$G$27="","",IF(B12="","",('Carta Condicionada'!$G$27))) | M12: =IF('Carta Condicionada'!$I$27="","",IF(B12="","",('Carta Condicionada'!$I$27))) | N12: =IF('Carta Condicionada'!$Q$27="","",IF(B12="","",('Carta Condicionada'!$Q$27))) | O12: =IF('Carta Condicionada'!$G$43="","",IF(B12="","",('Carta Condicionada'!$G$43)))
B13: =IF('Carta Condicionada'!I39="","",'Carta Condicionada'!G39) | C13: =IF('Carta Condicionada'!$S$8="","",IF(B13="","",'Carta Condicionada'!$S$8)) | D13: =IF('Carta Condicionada'!$G$17="","",IF(B13="","",('Carta Condicionada'!$G$17))) | E13: =IF('Carta Condicionada'!$Q$17="","",IF(B13="","",'Carta Condicionada'!$Q$17)) | F13: =IF(B13="","",'Carta Condicionada'!J39) | G13: =IF(B13="","",'Carta Condicionada'!I39) | H13: =IF(G13="","",$H$6) | I13: =IF(B13="","",'Carta Condicionada'!T39) | J13: =IF(B13="","",('Carta Condicionada'!V39)) | K13: =IF(B13="","",'Carta Condicionada'!X39) | L13: =IF('Carta Condicionada'!$G$27="","",IF(B13="","",('Carta Condicionada'!$G$27))) | M13: =IF('Carta Condicionada'!$I$27="","",IF(B13="","",('Carta Condicionada'!$I$27))) | N13: =IF('Carta Condicionada'!$Q$27="","",IF(B13="","",('Carta Condicionada'!$Q$27))) | O13: =IF('Carta Condicionada'!$G$43="","",IF(B13="","",('Carta Condicionada'!$G$43)))
B14: =IF('Carta Condicionada'!I40="","",'Carta Condicionada'!G40) | C14: =IF('Carta Condicionada'!$S$8="","",IF(B14="","",'Carta Condicionada'!$S$8)) | D14: =IF('Carta Condicionada'!$G$17="","",IF(B14="","",('Carta Condicionada'!$G$17))) | E14: =IF('Carta Condicionada'!$Q$17="","",IF(B14="","",'Carta Condicionada'!$Q$17)) | F14: =IF(B14="","",'Carta Condicionada'!J40) | G14: =IF(B14="","",'Carta Condicionada'!I40) | H14: =IF(G14="","",$H$6) | I14: =IF(B14="","",'Carta Condicionada'!T40) | J14: =IF(B14="","",('Carta Condicionada'!V40)) | K14: =IF(B14="","",'Carta Condicionada'!X40) | L14: =IF('Carta Condicionada'!$G$27="","",IF(B14="","",('Carta Condicionada'!$G$27))) | M14: =IF('Carta Condicionada'!$I$27="","",IF(B14="","",('Carta Condicionada'!$I$27))) | N14: =IF('Carta Condicionada'!$Q$27="","",IF(B14="","",('Carta Condicionada'!$Q$27))) | O14: =IF('Carta Condicionada'!$G$43="","",IF(B14="","",('Carta Condicionada'!$G$43)))
B15: =IF('Carta Condicionada'!I41="","",'Carta Condicionada'!G41) | C15: =IF('Carta Condicionada'!$S$8="","",IF(B15="","",'Carta Condicionada'!$S$8)) | D15: =IF('Carta Condicionada'!$G$17="","",IF(B15="","",('Carta Condicionada'!$G$17))) | E15: =IF('Carta Condicionada'!$Q$17="","",IF(B15="","",'Carta Condicionada'!$Q$17)) | F15: =IF(B15="","",'Carta Condicionada'!J41) | G15: =IF(B15="","",'Carta Condicionada'!I41) | H15: =IF(G15="","",$H$6) | I15: =IF(B15="","",'Carta Condicionada'!T41) | J15: =IF(B15="","",('Carta Condicionada'!V41)) | K15: =IF(B15="","",'Carta Condicionada'!X41) | L15: =IF('Carta Condicionada'!$G$27="","",IF(B15="","",('Carta Condicionada'!$G$27))) | M15: =IF('Carta Condicionada'!$I$27="","",IF(B15="","",('Carta Condicionada'!$I$27))) | N15: =IF('Carta Condicionada'!$Q$27="","",IF(B15="","",('Carta Condicionada'!$Q$27))) | O15: =IF('Carta Condicionada'!$G$43="","",IF(B15="","",('Carta Condicionada'!$G$43)))
C16: =IF(AND(B6<>"",C6=""),"ERROR: Faltó indicar No. de Crédito según Estado de Cuenta en Captura","") | F16: =IF('Carta Condicionada'!X43=RESUMEN!K16,"","ERROR: Existe diferencia en Total de Subsidios Vs. Captura") | J16: =SUM(J6:J15) -> 0 | K16: =SUM(K6:K15) -> 0
F17: =IF('Carta Condicionada'!V43=RESUMEN!J16,"","ERROR: Existe diferencia en Total de Crédito Vs. Captura")
