Workbook
Name AA: [1]Listas!#REF!
Name AA: [1]Listas!#REF!
Name AAAAS: DATOS!$C$2069:$C$2125
Name AGS: DATOS!$C$36:$C$46
Name BCN: DATOS!$C$47:$C$53
Name BCS: DATOS!$C$54:$C$58
Name CAM: DATOS!$C$59:$C$71
Name CHI: DATOS!$C$190:$C$256
Name CHP: DATOS!$C$72:$C$189
Name COA: DATOS!$C$273:$C$310
Name COL: DATOS!$C$311:$C$320
Name DIF: DATOS!$C$257:$C$272
Name DUR: DATOS!$C$321:$C$359
Name GRO: DATOS!$C$531:$C$611
Name GTO: DATOS!$C$485:$C$530
Name HGO: DATOS!$C$612:$C$695
Name JAL: DATOS!$C$696:$C$820
Name MEX: DATOS!$C$360:$C$484
Name MIC: DATOS!$C$821:$C$933
Name MOR: DATOS!$C$934:$C$969
Name NAY: DATOS!$C$970:$C$989
Name NLE: DATOS!$C$990:$C$1040
Name OAX: DATOS!$C$1041:$C$1610
Name PUE: DATOS!$C$1611:$C$1827
Name QRO: DATOS!$C$1828:$C$1845
Name ROO: DATOS!$C$1846:$C$1856
Name SIN: DATOS!$C$1915:$C$1932
Name SLP: DATOS!$C$1857:$C$1914
Name SON: DATOS!$C$1933:$C$2005
Name TAB: DATOS!$C$2006:$C$2022
Name TAM: DATOS!$C$2023:$C$2065
Name TLX: DATOS!$C$2066:$C$2125
Name VER: DATOS!$C$2126:$C$2337
Name YUC: DATOS!$C$2338:$C$2443
Name ZAC: DATOS!$C$2069:$C$2125
Name ZAS: DATOS!$C$2444:$C$2501
Name ZZZZ: DATOS!$C$2069:$C$2125

Sheet SOLICITUD C.C.C. FOV
L1: SOLICITUD DE CRÉDITO EN CUENTA CORRIENTE (C.C.C.) GARANTÍA FOVISSSTE | BK1: E
AN2: 1 | AO2: enero | BK2: I
AC3: Fecha de solicitud (dd/mm/aaaa): | AN3: 2 | AO3: febrero
C4: PARA USO EXCLUSIVO DE LA INSTITUCIÓN | AN4: 3 | AO4: marzo
C5: No. Solicitud (ID Operación): | AN5: 4 | AO5: abril
AN6: 5 | AO6: mayo
AN7: 6 | AO7: junio
AN8: 7 | AO8: julio
AN9: 8 | AO9: agosto
C10: 1. DATOS DE LA OFICINA DE ATENCIÓN O SUCURSAL | AN10: 9 | AO10: septiembre
AC11: Importe de Crédito Solicitado sin decimales: | AN11: 10 | AO11: octubre
C12: No. Ofna./Suc. | G12: Nombre de la Oficina de Atención o Sucursal: | AN12: 11 | AO12: noviembre
C13: =IF(G13>0,VLOOKUP(G13,DATOS!$F$3:$G$21,2,FALSE),"") | AN13: 12 | AO13: diciembre
AC14: Plazo del Crédito Solicitado (en meses):
C15: 2. DATOS DEL CRÉDITO
C17: Número de disposiciones | O17: Periodo de disposición (en meses): | AA17: Forma de disposición:
C19: Forma de pago: | T19: Destino del Crédito Solicitado:
C21: Desarrollos a individualizar con el FOVISSSTE
C27: 3. DATOS DEL CONTACTO PARA EL TRÁMITE
C28: ÁREA TÉCNICA (Nombre(s), Apellido Paterno, Apellido Materno): | Y28: Cargo en la Empresa:
C30: Correo Electrónico: | Y30: Teléfono(s):
Y31: Número:
C33: ÁREA CONTABLE (Nombre(s), Apellido Paterno, Apellido Materno): | Y33: Cargo en la Empresa:
C35: Correo Electrónico: | Y35: Teléfono(s):
Y36: Número:
C38: ÁREA JURÍDICA (Nombre(s), Apellido Paterno, Apellido Materno): | Y38: Cargo en la Empresa:
C40: Correo Electrónico: | Y40: Teléfono(s):
Y41: Número:
C43: Nota: Colocar los datos de las personas a quienes la Institución podrá contactar para dar seguimiento a los trámites relacionados con temas técnicos, contables y jurídicos, en caso de ser necesario.
C44: 4. GENERALES DEL SOLICITANTE | AL44: 0 | AN44: =IF(AL44=1,C115,C65) -> 0
C45: Persona Moral | Y45: SECTOR:
C46: Denominación o Razón Social: | Z46: Fecha de Constitución: | AE46: Nacionalidad:
C48: Giro Mercantil, Actividad u Objeto Social: | Z48: RFC:
C50: Grupo Empresarial: | Z50: No. de Serie Firma Electrónica Avanzada:
C52: Descripción de Régimen Fiscal: | Z52: Régimen Fiscal:
Z53: =IF(C53>0,VLOOKUP(C53,DATOS!$M$2:$N$20,2,FALSE),"")
C54: DOMICILIO Calle: | Z54: No. Exterior: | AE54: No. Interior:
C56: Colonia:
C58: Código Postal: | G58: Alcaldía o Municipio: | Z58: Ciudad o Estado:
AP59: =VLOOKUP(Z59,DATOS!$A$2:$B$33,2,FALSE) -> #N/A
...

Sheet AVISO
H1: SOLICITUD DE CRÉDITO EN CUENTA CORRIENTE (C.C.C.) GARANTÍA FOVISSSTE
G108: RECIBÍ AVISO DE PRIVACIDAD INTEGRAL CLIENTES Y ESTOY DE ACUERDO CON EL MISMO.
J111: NOMBRE Y FIRMA: | K111: =IF('SOLICITUD C.C.C. FOV'!AN44=0, "INGRESA NOMBRE",'SOLICITUD C.C.C. FOV'!AN44) -> INGRESA NOMBRE
H112: .

Sheet DATOS
A1: Ciudad o Estado | J1: Categoría de Vivienda | M1: Descripción | N1: RegimenFiscal | Q1: Descripción
A2: Aguascalientes | B2: AGS | J2: Interés Social | M2: General de Ley Personas Morales | N2: 601 | P2: Persona Física | Q2: Sueldos y Salarios e Ingresos Asimilados a Salarios
A3: Baja California | B3: BCN | F3: Cancún | G3: 014 | J3: Media | M3: Personas Morales con Fines no Lucrativos | N3: 603 | Q3: Arrendamiento
A4: Baja California Sur | B4: BCS | F4: Chihuahua | G4: 011 | J4: Residencial | M4: Sueldos y Salarios e Ingresos Asimilados a Salarios | N4: 605 | Q4: Régimen de Enajenación o Adquisición de Bienes
A5: Campeche | B5: CAM | F5: Colima | G5: 020 | J5: Residencial Plus | M5: Arrendamiento | N5: 606 | Q5: Demás ingresos
A6: Chiapas | B6: CHP | F6: Corporativo | G6: 507 | M6: Régimen de Enajenación o Adquisición de Bienes | N6: 607 | Q6: Residentes en el Extranjero sin Establecimiento Permanente en México
A7: Chihuahua | B7: CHI | F7: Culiacán | G7: 003 | M7: Demás ingresos | N7: 608 | Q7: Ingresos por Dividendos (socios y accionistas)
A8: Ciudad de México | B8: DIF | F8: Guadalajara | G8: 009 | M8: Residentes en el Extranjero sin Establecimiento Permanente en México | N8: 610 | Q8: Personas Físicas con Actividades Empresariales y Profesionales
A9: Coahuila | B9: COA | F9: Gran Terraza Lomas Verdes | G9: 041 | M9: Ingresos por Dividendos (socios y accionistas) | N9: 611 | Q9: Ingresos por intereses
A10: Colima | B10: COL | F10: Hermosillo | G10: 021 | M10: Personas Físicas con Actividades Empresariales y Profesionales | N10: 612 | Q10: Régimen de los ingresos por obtención de premios
A11: Durango | B11: DUR | F11: Insurgentes | G11: 001 | M11: Ingresos por intereses | N11: 614 | Q11: Sin obligaciones fiscales
A12: Estado de México | B12: MEX | F12: León Guanajuato | G12: 016 | M12: Régimen de los ingresos por obtención de premios | N12: 615 | Q12: Incorporación Fiscal
A13: Guanajuato | B13: GTO | F13: Mérida | G13: 012 | M13: Sin obligaciones fiscales | N13: 616 | Q13: Régimen de las Actividades Empresariales con ingresos a través de Plataformas Tecnológicas
A14: Guerrero | B14: GRO | F14: Monterrey | G14: 002 | M14: Sociedades Cooperativas de Producción que optan por diferir sus ingresos | N14: 620 | Q14: Régimen Simplificado de Confianza
A15: Hidalgo | B15: HGO | F15: Puebla | G15: 004 | M15: Incorporación Fiscal | N15: 621 | P15: Persona Moral | Q15: General de Ley Personas Morales
A16: Jalisco | B16: JAL | F16: Puerto Vallarta | G16: 035 | M16: Actividades Agrícolas, Ganaderas, Silvícolas y Pesqueras | N16: 622 | Q16: Personas Morales con Fines no Lucrativos
A17: Michoacán | B17: MIC | F17: Querétaro | G17: 006 | M17: Opcional para Grupos de Sociedades | N17: 623 | Q17: Residentes en el Extranjero sin Establecimiento Permanente en México
A18: Morelos | B18: MOR | F18: San Luis Potosí | G18: 005 | M18: Coordinados | N18: 624 | Q18: Sociedades Cooperativas de Producción que optan por diferir sus ingresos
A19: Nayarit | B19: NAY | F19: Satélite | G19: 040 | M19: Régimen de las Actividades Empresariales con ingresos a través de Plataformas Tecnológicas | N19: 625 | Q19: Actividades Agrícolas, Ganaderas, Silvícolas y Pesqueras
A20: Nuevo León | B20: NLE | F20: Tijuana | G20: 030 | M20: Régimen Simplificado de Confianza | N20: 626 | Q20: Opcional para Grupos de Sociedades
A21: Oaxaca | B21: OAX | F21: Torreón | G21: 033 | Q21: Coordinados
A22: Puebla | B22: PUE | Q22: Régimen Simplificado de Confianza
A23: Querétaro | B23: QRO
A24: Quintana Roo | B24: ROO
A25: San Luis Potosí | B25: SLP
A26: Sinaloa | B26: SIN
A27: Sonora | B27: SON
A28: Tabasco | B28: TAB
A29: Tamaulipas | B29: TAM
A30: Tlaxcala | B30: TLX
A31: Veracruz | B31: VER
A32: Yucatán | B32: YUC
A33: Zacatecas | B33: ZAS
A35: Estado | B35: Abreviatura | C35: Municipios
A36: Aguascalientes | B36: AGS | C36: Aguascalientes
C37: Asientos
C38: Calvillo
C39: Cosío
C40: Jesús María
C41: Pabellón de Arteaga
...
