Workbook
Name AA: [1]Listas!#REF!
Name AA: [1]Listas!#REF!
Name AAAAS: DATOS!$C$2069:$C$2125
Name AGS: DATOS!$C$36:$C$46
Name BCN: DATOS!$C$47:$C$53
Name BCS: DATOS!$C$54:$C$58
Name CAM: DATOS!$C$59:$C$71
Name CHI: DATOS!$C$190:$C$256
Name CHP: DATOS!$C$72:$C$189
Name COA: DATOS!$C$273:$C$310
Name COL: DATOS!$C$311:$C$320
Name DIF: DATOS!$C$257:$C$272
Name DUR: DATOS!$C$321:$C$359
Name GENERO: DATOS!$C$2:$C$4
Name GRO: DATOS!$C$531:$C$611
Name GTO: DATOS!$C$485:$C$530
Name HGO: DATOS!$C$612:$C$695
Name IMPRIMIR_ANEXO: 'Anexo Avales u OS'!$B$11
Name IMPRIMIR_ANEXO: 'Anexo Garantía Adicional'!$B$10
Name JAL: DATOS!$C$696:$C$820
Name MEX: DATOS!$C$360:$C$484
Name MIC: DATOS!$C$821:$C$933
Name MOR: DATOS!$C$934:$C$969
Name NAY: DATOS!$C$970:$C$989
Name NLE: DATOS!$C$990:$C$1040
Name OAX: DATOS!$C$1041:$C$1610
Name PUE: DATOS!$C$1611:$C$1827
Name QRO: DATOS!$C$1828:$C$1845
Name ROO: DATOS!$C$1846:$C$1856
Name SIN: DATOS!$C$1915:$C$1932
Name SLP: DATOS!$C$1857:$C$1914
Name SON: DATOS!$C$1933:$C$2005
Name TAB: DATOS!$C$2006:$C$2022
Name TAM: DATOS!$C$2023:$C$2065
Name TLX: DATOS!$C$2066:$C$2125
Name VER: DATOS!$C$2126:$C$2337
Name YUC: DATOS!$C$2338:$C$2443
Name ZAC: DATOS!$C$2069:$C$2125
Name ZAS: DATOS!$C$2444:$C$2501
Name ZZZZ: DATOS!$C$2069:$C$2125

Sheet Solicitud de Crédito
Y1: SOLICITUD DE CRÉDITO PUENTE
AX2: 1 | AY2: enero
AM3: Fecha de solicitud (dd/mm/aaaa): | AX3: 2 | AY3: febrero
M4: PARA USO EXCLUSIVO DE LA INSTITUCIÓN | AX4: 3 | AY4: marzo
M5: No. Solicitud (ID Operación): | U5: Total de viviendas: | Z5: Valor Total del Proyecto: | AH5: % Solicitado: | AX5: 4 | AY5: abril
U6: =IF(AM15="","",X159) | Z6: =IFERROR(IF(AM15="","",ROUND(AN159,0)),"") | AH6: =IF(AM15=0,"",IF(X159=0,"",AM15/AN159)) | AM6: Modalidad: | AX6: 5 | AY6: mayo
AX7: 6 | AY7: junio
AX8: 7 | AY8: julio
M9: Señale si tiene cuenta de cheques con BIM: | AX9: 8 | AY9: agosto
AX10: 9 | AY10: septiembre
AX11: 10 | AY11: octubre
M12: 1. DATOS DE LA OFICINA DE ATENCIÓN O SUCURSAL | AX12: 11 | AY12: noviembre
AM13: Importe de Crédito Solicitado sin decimales: | AX13: 12 | AY13: diciembre
M14: No. Ofna./Suc. | Q14: Nombre de la Oficina de Atención o Sucursal:
M15: =IF(Q15>0,VLOOKUP(Q15,[4]DATOS!$G$3:$H$18,2,FALSE),"")
AM16: Plazo del Crédito Solicitado (en meses):
M17: 2. PROYECTO A FINANCIAR
M19: Nombre del Proyecto:
M21: ¿Existe domicilio oficial? | R21: Descripción general de la ubicación de la garantía:
AV22: 2
M23: Calle: | AI23: No. Exterior: | AO23: No. Interior:
M25: Colonia:
M27: Código Postal: | Q27: Alcaldía o Municipio: | AI27: Ciudad o Estado:
AZ28: =VLOOKUP(AI28,DATOS!A2:B33,2,FALSE) -> #N/A
M29: Descripción del proyecto a desarrollar (tipo de proyecto, etapa a financiar, etc.):
M31: 3. GENERALES DEL SOLICITANTE | AV31: 2 | AX31: =IF(AV31=2, M50,M94) -> 0
M32: Persona Moral | AI32: SECTOR:
M33: Denominación o Razón Social: | AJ33: Fecha de Constitución: | AO33: Nacionalidad:
M35: RFC: | Y35: Giro Mercantil, Actividad u Objeto Social: | AJ35: Grupo Empresarial:
M37: Descripción de Régimen Fiscal: | AF37: Régimen Fiscal: | AJ37: No. de Serie Firma Electrónica Avanzada:
AF38: =IF(M38>0,VLOOKUP(M38,[4]DATOS!$N$2:$O$20,2,FALSE),"")
M39: DOMICILIO Calle: | AJ39: No. Exterior: | AO39: No. Interior:
M41: Colonia:
M43: Código Postal: | Q43: Alcaldía o Municipio: | AJ43: Ciudad o Estado:
AZ44: =VLOOKUP(AJ44,DATOS!A2:B33,2,FALSE) -> #N/A
M45: Página Web: | AJ45: Teléfono(s):
AJ46: Lada: | AL46: Número:
M48: Persona Física con Actividad Empresarial
M49: Nombre(s), Apellido Paterno, Apellido Materno (sin abreviaturas): | AJ49: Fecha de nacimiento (dd/mm/aaaa):
M51: RFC: | Y51: CURP: | AJ51: Nacionalidad:
...

Sheet Anexo Avales u OS
I1: ANEXO AVAL(ES) U OBLIGADO(S) SOLIDARIO(S) PROPUESTO(S)
B5: GENERALES DEL SOLICITANTE
B6: Nombre(s), Apellido Paterno, Apellido Materno o Razón Social: | AA6: RFC:
B9: DATOS AVAL(ES) U OBLIGADO(S) SOLIDARIO(S) PROPUESTO(S)
B10: Nombre(s), Apellido Paterno, Apellido Materno o Razón Social: | AA10: Relación con la Empresa o Proyecto:
B12: =IF(R13="Moral", "RFC: (12 dígitos)", "RFC: (13 dígitos)") -> RFC: (13 dígitos) | J12: CURP: | R12: Tipo de Persona: | W12: Representado por:
AL13: =CONCATENATE(B11,IF(W13>0,", ","")) | AM13: =CONCATENATE(IF(W13>0,CONCATENATE(" respresentado por: ",W13, IF(B18>0, "; ","")), IF(AND(W13=0, B18>0),", ","")))
B14: Estado Civil:
B15: * En su caso indicar el régimen:
B17: Nombre(s), Apellido Paterno, Apellido Materno o Razón Social: | AA17: Relación con la Empresa o Proyecto:
B19: =IF(R20="Moral", "RFC: (12 dígitos)", "RFC: (13 dígitos)") -> RFC: (13 dígitos) | J19: CURP: | R19: Tipo de Persona: | W19: Representado por:
AL20: =CONCATENATE(B18,IF(W20>0,", ","")) | AM20: =CONCATENATE(IF(W20>0,CONCATENATE(" respresentado por: ",W20, IF(B25>0, "; ","")), IF(AND(W20=0, B25>0),", ","")))
B21: Estado Civil:
B22: * En su caso indicar el régimen:
B24: Nombre(s), Apellido Paterno, Apellido Materno o Razón Social: | AA24: Relación con la Empresa o Proyecto:
B26: =IF(R27="Moral", "RFC: (12 dígitos)", "RFC: (13 dígitos)") -> RFC: (13 dígitos) | J26: CURP: | R26: Tipo de Persona: | W26: Representado por:
AL27: =CONCATENATE(B25,IF(W27>0,", ","")) | AM27: =CONCATENATE(IF(W27>0,CONCATENATE(" respresentado por: ",W27, IF(B32>0, "; ","")), IF(AND(W27=0, B32>0),", ","")))
B28: Estado Civil:
B29: * En su caso indicar el régimen:
B31: Nombre(s), Apellido Paterno, Apellido Materno o Razón Social: | AA31: Relación con la Empresa o Proyecto:
B33: =IF(R34="Moral", "RFC: (12 dígitos)", "RFC: (13 dígitos)") -> RFC: (13 dígitos) | J33: CURP: | R33: Tipo de Persona: | W33: Representado por:
AL34: =CONCATENATE(B32,IF(W34>0,", ","")) | AM34: =CONCATENATE(IF(W34>0,CONCATENATE(" respresentado por: ",W34, IF(B39>0, "; ","")), IF(AND(W34=0, B39>0),", ","")))
B35: Estado Civil:
B36: * En su caso indicar el régimen:
B38: Nombre(s), Apellido Paterno, Apellido Materno o Razón Social: | AA38: Relación con la Empresa o Proyecto:
B40: =IF(R41="Moral", "RFC: (12 dígitos)", "RFC: (13 dígitos)") -> RFC: (13 dígitos) | J40: CURP: | R40: Tipo de Persona: | W40: Representado por:
AL41: =CONCATENATE(B39,IF(W41>0,", ","")) | AM41: =CONCATENATE(IF(W41>0,CONCATENATE(" respresentado por: ",W41, IF(B46>0, "; ","")), IF(AND(W41=0, B46>0),", ","")))
B42: Estado Civil:
B43: * En su caso indicar el régimen:
B45: Nombre(s), Apellido Paterno, Apellido Materno o Razón Social: | AA45: Relación con la Empresa o Proyecto:
B47: =IF(R48="Moral", "RFC: (12 dígitos)", "RFC: (13 dígitos)") -> RFC: (13 dígitos) | J47: CURP: | R47: Tipo de Persona: | W47: Representado por:
AL48: =CONCATENATE(B46,IF(W48>0,", ","")) | AM48: =CONCATENATE(IF(W48>0,CONCATENATE(" respresentado por: ",W48,""),""),IF(W48=0,"",""))
B49: Estado Civil:
B50: * En su caso indicar el régimen:

Sheet Anexo Garantía Adicional
I1: ANEXO GARANTÍA REAL ADICIONAL
B4: GENERALES DEL SOLICITANTE
B5: Nombre(s), Apellido Paterno, Apellido Materno o Razón Social: | AA5: RFC:
B8: INFORMACIÓN DE LA GARANTÍA REAL ADICIONAL
B9: Propietario (Nombre(s), Apellido Paterno, Apellido Materno o Razón Social):
B11: Valor Avalúo: | R11: Valor de la Garantía: | X11: No. de Lotes: | AD11: Superficie de Terreno M2:
B13: No. de Escritura(s): | J13: No. de Notario, Nombre y Plaza:
B15: Observaciones:
B18: Propietario (Nombre(s), Apellido Paterno, Apellido Materno o Razón Social):
B20: Valor Avalúo: | R20: Valor de la Garantía: | X20: No. de Lotes: | AD20: Superficie de Terreno M2:
B22: No. de Escritura(s): | J22: No. de Notario, Nombre y Plaza:
B24: Observaciones:
B27: Propietario (Nombre(s), Apellido Paterno, Apellido Materno o Razón Social):
B29: Valor Avalúo: | R29: Valor de la Garantía: | X29: No. de Lotes: | AD29: Superficie de Terreno M2:
B31: No. de Escritura(s): | J31: No. de Notario, Nombre y Plaza:
B33: Observaciones:
B36: Propietario (Nombre(s), Apellido Paterno, Apellido Materno o Razón Social):
B38: Valor Avalúo: | R38: Valor de la Garantía: | X38: No. de Lotes: | AD38: Superficie de Terreno M2:
B40: No. de Escritura(s): | J40: No. de Notario, Nombre y Plaza:
B42: Observaciones:
B45: Propietario (Nombre(s), Apellido Paterno, Apellido Materno o Razón Social):
B47: Valor Avalúo: | R47: Valor de la Garantía: | X47: No. de Lotes: | AD47: Superficie de Terreno M2:
B49: No. de Escritura(s): | J49: No. de Notario, Nombre y Plaza:
B51: Observaciones:

Sheet AVISO
H1: SOLICITUD DE CRÉDITO PUENTE
G108: RECIBÍ AVISO DE PRIVACIDAD INTEGRAL CLIENTES Y ESTOY DE ACUERDO CON EL MISMO.
J111: NOMBRE Y FIRMA: | K111: =IF(A1=0, "INGRESA NOMBRE",A1) -> INGRESA NOMBRE

Sheet DATOS
A1: Ciudad o Estado | C1: Género | F1: Oficinas de Atención | K1: Categoría de Vivienda | N1: Descripción | O1: RegimenFiscal | R1: Descripción
A2: Aguascalientes | B2: AGS | C2: Masculino | K2: Interés Social | N2: General de Ley Personas Morales | O2: 601 | Q2: Persona Física | R2: Sueldos y Salarios e Ingresos Asimilados a Salarios
A3: Baja California | B3: BCN | C3: Femenino | F3: 014 | G3: CANCÚN | H3: =F3 -> 014 | K3: Media | N3: Personas Morales con Fines no Lucrativos | O3: 603 | R3: Arrendamiento
A4: Baja California Sur | B4: BCS | C4: Otro (especifique) | F4: 507 | G4: CDMX (CORPORATIVO) | H4: =F4 -> 507 | K4: Residencial | N4: Sueldos y Salarios e Ingresos Asimilados a Salarios | O4: 605 | R4: Régimen de Enajenación o Adquisición de Bienes
A5: Campeche | B5: CAM | F5: 009 | G5: CHIHUAHUA | H5: =F5 -> 009 | K5: Residencial Plus | N5: Arrendamiento | O5: 606 | R5: Demás ingresos
A6: Chiapas | B6: CHP | F6: 020 | G6: COLIMA | H6: =F6 -> 020 | N6: Régimen de Enajenación o Adquisición de Bienes | O6: 607 | R6: Residentes en el Extranjero sin Establecimiento Permanente en México
A7: Chihuahua | B7: CHI | F7: 003 | G7: CULIACÁN | H7: =F7 -> 003 | N7: Demás ingresos | O7: 608 | R7: Ingresos por Dividendos (socios y accionistas)
A8: Ciudad de México | B8: DIF | F8: 009 | G8: GUADALAJARA | H8: =F8 -> 009 | N8: Residentes en el Extranjero sin Establecimiento Permanente en México | O8: 610 | R8: Personas Físicas con Actividades Empresariales y Profesionales
A9: Coahuila | B9: COA | F9: 021 | G9: HERMOSILLO | H9: =F9 -> 021 | N9: Ingresos por Dividendos (socios y accionistas) | O9: 611 | R9: Ingresos por intereses
A10: Colima | B10: COL | F10: 016 | G10: LEÓN GUANAJUATO | H10: =F10 -> 016 | N10: Personas Físicas con Actividades Empresariales y Profesionales | O10: 612 | R10: Régimen de los ingresos por obtención de premios
A11: Durango | B11: DUR | F11: 012 | G11: MÉRIDA | H11: =F11 -> 012 | N11: Ingresos por intereses | O11: 614 | R11: Sin obligaciones fiscales
A12: Estado de México | B12: MEX | F12: 002 | G12: MONTERREY | H12: =F12 -> 002 | N12: Régimen de los ingresos por obtención de premios | O12: 615 | R12: Incorporación Fiscal
A13: Guanajuato | B13: GTO | F13: 004 | G13: PUEBLA | H13: =F13 -> 004 | N13: Sin obligaciones fiscales | O13: 616 | R13: Régimen de las Actividades Empresariales con ingresos a través de Plataformas Tecnológicas
A14: Guerrero | B14: GRO | F14: 035 | G14: PUERTO VALLARTA | H14: =F14 -> 035 | N14: Sociedades Cooperativas de Producción que optan por diferir sus ingresos | O14: 620 | R14: Régimen Simplificado de Confianza
A15: Hidalgo | B15: HGO | F15: 006 | G15: QUERÉTARO | H15: =F15 -> 006 | N15: Incorporación Fiscal | O15: 621 | Q15: Persona Moral | R15: General de Ley Personas Morales
A16: Jalisco | B16: JAL | F16: 005 | G16: SAN LUIS POTOSÍ | H16: =F16 -> 005 | N16: Actividades Agrícolas, Ganaderas, Silvícolas y Pesqueras | O16: 622 | R16: Personas Morales con Fines no Lucrativos
A17: Michoacán | B17: MIC | F17: 030 | G17: TIJUANA | H17: =F17 -> 030 | N17: Opcional para Grupos de Sociedades | O17: 623 | R17: Residentes en el Extranjero sin Establecimiento Permanente en México
A18: Morelos | B18: MOR | F18: 033 | G18: TORREÓN | H18: =F18 -> 033 | N18: Coordinados | O18: 624 | R18: Sociedades Cooperativas de Producción que optan por diferir sus ingresos
A19: Nayarit | B19: NAY | N19: Régimen de las Actividades Empresariales con ingresos a través de Plataformas Tecnológicas | O19: 625 | R19: Actividades Agrícolas, Ganaderas, Silvícolas y Pesqueras
A20: Nuevo León | B20: NLE | N20: Régimen Simplificado de Confianza | O20: 626 | R20: Opcional para Grupos de Sociedades
A21: Oaxaca | B21: OAX | R21: Coordinados
A22: Puebla | B22: PUE | R22: Régimen Simplificado de Confianza
A23: Querétaro | B23: QRO
A24: Quintana Roo | B24: ROO
A25: San Luis Potosí | B25: SLP
A26: Sinaloa | B26: SIN
A27: Sonora | B27: SON
A28: Tabasco | B28: TAB
A29: Tamaulipas | B29: TAM
A30: Tlaxcala | B30: TLX
A31: Veracruz | B31: VER
A32: Yucatán | B32: YUC
A33: Zacatecas | B33: ZAS
A35: Estado | B35: Abreviatura | C35: Municipios
A36: Aguascalientes | B36: AGS | C36: Aguascalientes
C37: Asientos
C38: Calvillo
C39: Cosío
C40: Jesús María
C41: Pabellón de Arteaga
...
